BEGIN:VCALENDAR
METHOD:PUBLISH
PRODID:-//Your-Prodid-Here//NONSGML iCalcreator 0.9.15//
VERSION:2.0
BEGIN:VEVENT
CLASS:PUBLIC
DTSTART;VALUE=DATE-TIME:20260521T000000
DTEND;VALUE=DATE-TIME:20260524T230000
DTSTAMP:20260420T052055Z
LOCATION:Feuerwehr Wiedenzhausen
PRIORITY:3
SUMMARY:130-jähriges Gründungsfest Feuerwehr Wiedenzhausen
UID:7e0e1e20fcc29d9d006350ba027121be@your-domain.com
URL:https://www.kbi-dachau.de/130-jaehriges-gruendungsfest-feuerwehr-wiedenzhausen_v_169.html
END:VEVENT
END:VCALENDAR
	
