BEGIN:VCALENDAR
METHOD:PUBLISH
PRODID:-//Your-Prodid-Here//NONSGML iCalcreator 0.9.15//
VERSION:2.0
BEGIN:VEVENT
CLASS:PUBLIC
DTSTART;VALUE=DATE-TIME:20260712T000000
DTEND;VALUE=DATE-TIME:20260712T235900
DTSTAMP:20260420T052410Z
LOCATION:Feuerwehr Langwaid
PRIORITY:3
SUMMARY:Reservierung Hüpfburg
UID:5ee5a1769f24db4580a48c0be9ef8129@your-domain.com
URL:https://www.kbi-dachau.de/reservierung-huepfburg_v_168.html
END:VEVENT
END:VCALENDAR
	
