BEGIN:VCALENDAR
METHOD:PUBLISH
PRODID:-//Your-Prodid-Here//NONSGML iCalcreator 0.9.15//
VERSION:2.0
BEGIN:VEVENT
CLASS:PUBLIC
DTSTART;VALUE=DATE-TIME:20260512T000000
DTEND;VALUE=DATE-TIME:20260518T230000
DTSTAMP:20260420T052253Z
LOCATION:Feuerwehr Haimhausen
PRIORITY:3
SUMMARY:Reservierung Hüpfburg
UID:cd952b145092bad91e67ba158c87d752@your-domain.com
URL:https://www.kbi-dachau.de/reservierung-huepfburg_v_167.html
END:VEVENT
END:VCALENDAR
	
