BEGIN:VCALENDAR
METHOD:PUBLISH
PRODID:-//Your-Prodid-Here//NONSGML iCalcreator 0.9.15//
VERSION:2.0
BEGIN:VEVENT
CLASS:PUBLIC
DTSTART;VALUE=DATE-TIME:20250428T000000
DTEND;VALUE=DATE-TIME:20250428T235900
DTSTAMP:20260420T052247Z
LOCATION:Feuerwehr Sulzemoos
PRIORITY:3
SUMMARY:Reservierung Feuerlöschtrainer
UID:5b5b4f1d53ce71384373bb47ab4d3fdc@your-domain.com
URL:https://www.kbi-dachau.de/reservierung-feuerloeschtrainer_v_165.html
END:VEVENT
END:VCALENDAR
	
