BEGIN:VCALENDAR
METHOD:PUBLISH
PRODID:-//Your-Prodid-Here//NONSGML iCalcreator 0.9.15//
VERSION:2.0
BEGIN:VEVENT
CLASS:PUBLIC
DTSTART;VALUE=DATE-TIME:20260612T000000
DTEND;VALUE=DATE-TIME:20260614T235900
DTSTAMP:20260420T052020Z
LOCATION:Feuerwehr Kollbach
PRIORITY:3
SUMMARY:Reservierung Hüpfburg
UID:66a3d457eaa1f7a0597d73eb236694be@your-domain.com
URL:https://www.kbi-dachau.de/reservierung-huepfburg_v_164.html
END:VEVENT
END:VCALENDAR
	
