BEGIN:VCALENDAR
METHOD:PUBLISH
PRODID:-//Your-Prodid-Here//NONSGML iCalcreator 0.9.15//
VERSION:2.0
BEGIN:VEVENT
CLASS:PUBLIC
DTSTART;VALUE=DATE-TIME:20260904T000000
DTEND;VALUE=DATE-TIME:20260906T235900
DTSTAMP:20260420T052246Z
LOCATION:Feuerwehr Odelzhausen
PRIORITY:3
SUMMARY:150. jähriges Gründungsfest Feuerwehr Odelzhausen
UID:16ee7d0e6c626fe8af540cf243dd2f6e@your-domain.com
URL:https://www.kbi-dachau.de/150-jaehriges-gruendungsfest-feuerwehr-odelzhausen_v_163.html
END:VEVENT
END:VCALENDAR
	
