BEGIN:VCALENDAR
METHOD:PUBLISH
PRODID:-//Your-Prodid-Here//NONSGML iCalcreator 0.9.15//
VERSION:2.0
BEGIN:VEVENT
CLASS:PUBLIC
DTSTART;VALUE=DATE-TIME:20251025T000000
DTEND;VALUE=DATE-TIME:20251025T235900
DTSTAMP:20260420T052247Z
LOCATION:Feuerwehr Helfendorf
PRIORITY:3
SUMMARY:Reservierung Hüpfburg
UID:e4a00d2db49fbe70732540ba5dd90cc4@your-domain.com
URL:https://www.kbi-dachau.de/reservierung-huepfburg_v_162.html
END:VEVENT
END:VCALENDAR
	
