BEGIN:VCALENDAR
METHOD:PUBLISH
PRODID:-//Your-Prodid-Here//NONSGML iCalcreator 0.9.15//
VERSION:2.0
BEGIN:VEVENT
CLASS:PUBLIC
DTSTART;VALUE=DATE-TIME:20250408T000000
DTEND;VALUE=DATE-TIME:20250408T235900
DTSTAMP:20260420T052411Z
LOCATION:Feuerwehr Karlsfeld
PRIORITY:3
SUMMARY:Reservierung Feuerlöschtrainer
UID:acc1fd1469cf83e7bfea6a5e6629ccc9@your-domain.com
URL:https://www.kbi-dachau.de/reservierung-feuerloeschtrainer_v_161.html
END:VEVENT
END:VCALENDAR
	
