BEGIN:VCALENDAR
METHOD:PUBLISH
PRODID:-//Your-Prodid-Here//NONSGML iCalcreator 0.9.15//
VERSION:2.0
BEGIN:VEVENT
CLASS:PUBLIC
DTSTART;VALUE=DATE-TIME:20260612T000000
DTEND;VALUE=DATE-TIME:20260614T235900
DTSTAMP:20260420T052432Z
LOCATION:Feuerwehr Kollbach
PRIORITY:3
SUMMARY:150. jähriges Gründungsfest Feuerwehr Kollbach
UID:74f261aac23c61c456442a9001517dc1@your-domain.com
URL:https://www.kbi-dachau.de/150-jaehriges-gruendungsfest-feuerwehr-kollbach_v_160.html
END:VEVENT
END:VCALENDAR
	
