BEGIN:VCALENDAR
METHOD:PUBLISH
PRODID:-//Your-Prodid-Here//NONSGML iCalcreator 0.9.15//
VERSION:2.0
BEGIN:VEVENT
CLASS:PUBLIC
DTSTART;VALUE=DATE-TIME:20250128T055837
DTEND;VALUE=DATE-TIME:20250128T055837
DTSTAMP:20260420T052411Z
LOCATION:Katastrophenschutzzentrum
PRIORITY:3
SUMMARY:Reservierung Hüpfburg
UID:e8b30a8ab953d9d939e57f09dc40d659@your-domain.com
URL:https://www.kbi-dachau.de/reservierung-huepfburg_v_157.html
END:VEVENT
END:VCALENDAR
	
