BEGIN:VCALENDAR
METHOD:PUBLISH
PRODID:-//Your-Prodid-Here//NONSGML iCalcreator 0.9.15//
VERSION:2.0
BEGIN:VEVENT
CLASS:PUBLIC
DTSTART;VALUE=DATE-TIME:20250502T000000
DTEND;VALUE=DATE-TIME:20250506T235900
DTSTAMP:20260420T052400Z
LOCATION:Feuerwehr Kollbach
PRIORITY:3
SUMMARY:Reservierung Feuerlöschtrainer
UID:67092cc431948c56de3788b6787b9ad4@your-domain.com
URL:https://www.kbi-dachau.de/reservierung-feuerloeschtrainer_v_156.html
END:VEVENT
END:VCALENDAR
	
