BEGIN:VCALENDAR
METHOD:PUBLISH
PRODID:-//Your-Prodid-Here//NONSGML iCalcreator 0.9.15//
VERSION:2.0
BEGIN:VEVENT
CLASS:PUBLIC
DTSTART;VALUE=DATE-TIME:20250124T000000
DTEND;VALUE=DATE-TIME:20250127T235900
DTSTAMP:20260420T052020Z
LOCATION:Feuerwehr Sulzemoos
PRIORITY:3
SUMMARY:Reservierung Feuerlöschtrainer
UID:6ba30b09e7a4148253939631267c8df9@your-domain.com
URL:https://www.kbi-dachau.de/reservierung-feuerloeschtrainer_v_155.html
END:VEVENT
END:VCALENDAR
	
