BEGIN:VCALENDAR
METHOD:PUBLISH
PRODID:-//Your-Prodid-Here//NONSGML iCalcreator 0.9.15//
VERSION:2.0
BEGIN:VEVENT
CLASS:PUBLIC
DTSTART;VALUE=DATE-TIME:20250620T000000
DTEND;VALUE=DATE-TIME:20250622T235900
DTSTAMP:20260420T052431Z
LOCATION:Feuerwehr Oberdolling
PRIORITY:3
SUMMARY:Reservierung Hüpfburg
UID:619ecaf9cdd553072a0f87f1177a38bf@your-domain.com
URL:https://www.kbi-dachau.de/reservierung-huepfburg_v_153.html
END:VEVENT
END:VCALENDAR
	
