BEGIN:VCALENDAR
METHOD:PUBLISH
PRODID:-//Your-Prodid-Here//NONSGML iCalcreator 0.9.15//
VERSION:2.0
BEGIN:VEVENT
CLASS:PUBLIC
DTSTART;VALUE=DATE-TIME:20250518T090000
DTEND;VALUE=DATE-TIME:20250518T170000
DTSTAMP:20260420T052055Z
LOCATION:Feuerwehr Höfa
PRIORITY:3
SUMMARY:Einweihungsfeier und Tag der offenen Tür - Feuerwehr Höfa
UID:c7f583b8493457727a7ca30aebbab6cd@your-domain.com
URL:https://www.kbi-dachau.de/einweihungsfeier-und-tag-der-offenen-tuer-feuerwehr-hoefa_v_152.html
END:VEVENT
END:VCALENDAR
	
