BEGIN:VCALENDAR
METHOD:PUBLISH
PRODID:-//Your-Prodid-Here//NONSGML iCalcreator 0.9.15//
VERSION:2.0
BEGIN:VEVENT
CLASS:PUBLIC
DTSTART;VALUE=DATE-TIME:20250711T000000
DTEND;VALUE=DATE-TIME:20250713T230000
DTSTAMP:20260420T052400Z
LOCATION:Feuerwehr Biberbach
PRIORITY:3
SUMMARY:150-jähriges Gründungsfest Feuerwehr Biberbach
UID:97012815d0611e731d8c999e115b013e@your-domain.com
URL:https://www.kbi-dachau.de/150-jaehriges-gruendungsfest-feuerwehr-biberbach_v_151.html
END:VEVENT
END:VCALENDAR
	
