BEGIN:VCALENDAR
METHOD:PUBLISH
PRODID:-//Your-Prodid-Here//NONSGML iCalcreator 0.9.15//
VERSION:2.0
BEGIN:VEVENT
CLASS:PUBLIC
DTSTART;VALUE=DATE-TIME:20250803T000000
DTEND;VALUE=DATE-TIME:20250804T230000
DTSTAMP:20260420T052259Z
LOCATION:Feuerwehr Taufkirchen
PRIORITY:3
SUMMARY:Reservierung Hüpfburg
UID:1b39bab9a45290d6c57145c430cd9528@your-domain.com
URL:https://www.kbi-dachau.de/reservierung-huepfburg_v_150.html
END:VEVENT
END:VCALENDAR
	
