BEGIN:VCALENDAR
METHOD:PUBLISH
PRODID:-//Your-Prodid-Here//NONSGML iCalcreator 0.9.15//
VERSION:2.0
BEGIN:VEVENT
CLASS:PUBLIC
DTSTART;VALUE=DATE-TIME:20240608T000000
DTEND;VALUE=DATE-TIME:20240610T235900
DTSTAMP:20260420T052253Z
LOCATION:Feuerwehr Willing
PRIORITY:3
SUMMARY:Reservierung Hüpfburg
UID:55e8577bb7a6cd7327bca268f144e993@your-domain.com
URL:https://www.kbi-dachau.de/reservierung-huepfburg_v_15.html
END:VEVENT
END:VCALENDAR
	
