BEGIN:VCALENDAR
METHOD:PUBLISH
PRODID:-//Your-Prodid-Here//NONSGML iCalcreator 0.9.15//
VERSION:2.0
BEGIN:VEVENT
CLASS:PUBLIC
DTSTART;VALUE=DATE-TIME:20251119T190000
DTEND;VALUE=DATE-TIME:20251119T220000
DTSTAMP:20260420T052431Z
LOCATION:Katastrophenschutzzentrum
PRIORITY:3
SUMMARY:Übung Katastrophenschutz
UID:311f0b1e8205d8cc26ffbc0e79a84fc9@your-domain.com
URL:https://www.kbi-dachau.de/Uebung-katastrophenschutz_v_147.html
END:VEVENT
END:VCALENDAR
	
