BEGIN:VCALENDAR
METHOD:PUBLISH
PRODID:-//Your-Prodid-Here//NONSGML iCalcreator 0.9.15//
VERSION:2.0
BEGIN:VEVENT
CLASS:PUBLIC
DTSTART;VALUE=DATE-TIME:20250521T190000
DTEND;VALUE=DATE-TIME:20250521T220000
DTSTAMP:20260420T052247Z
LOCATION:Katastrophenschutzzentrum
PRIORITY:3
SUMMARY:Übung Katastrophenschutz
UID:64e9321db18fdecbaa6b06591afae92f@your-domain.com
URL:https://www.kbi-dachau.de/Uebung-katastrophenschutz_v_146.html
END:VEVENT
END:VCALENDAR
	
