BEGIN:VCALENDAR
METHOD:PUBLISH
PRODID:-//Your-Prodid-Here//NONSGML iCalcreator 0.9.15//
VERSION:2.0
BEGIN:VEVENT
CLASS:PUBLIC
DTSTART;VALUE=DATE-TIME:20250131T190000
DTEND;VALUE=DATE-TIME:20250131T230000
DTSTAMP:20260420T052132Z
LOCATION:Schlossgut Odelzhausen
PRIORITY:3
SUMMARY:Jahresessen Kreisbrandinspektion
UID:57ed719a3a3a99d4c87ef4c00a651265@your-domain.com
URL:https://www.kbi-dachau.de/jahresessen-kreisbrandinspektion_v_144.html
END:VEVENT
END:VCALENDAR
	
