BEGIN:VCALENDAR
METHOD:PUBLISH
PRODID:-//Your-Prodid-Here//NONSGML iCalcreator 0.9.15//
VERSION:2.0
BEGIN:VEVENT
CLASS:PUBLIC
DTSTART;VALUE=DATE-TIME:20251023T190000
DTEND;VALUE=DATE-TIME:20251023T220000
DTSTAMP:20260420T052055Z
LOCATION:Gasthof Göttler
PRIORITY:3
SUMMARY:Kommandantenversammlung
UID:c251a853f17f2bc523ee2cff6fdc47a1@your-domain.com
URL:https://www.kbi-dachau.de/kommandantenversammlung_v_143.html
END:VEVENT
END:VCALENDAR
	
