BEGIN:VCALENDAR
METHOD:PUBLISH
PRODID:-//Your-Prodid-Here//NONSGML iCalcreator 0.9.15//
VERSION:2.0
BEGIN:VEVENT
CLASS:PUBLIC
DTSTART;VALUE=DATE-TIME:20250320T190000
DTEND;VALUE=DATE-TIME:20250320T220000
DTSTAMP:20260420T052405Z
LOCATION:Gasthaus Göttler
PRIORITY:3
SUMMARY:Kommandantenversammlung
UID:a747c6bf42fef3ace6f41731bb54ca90@your-domain.com
URL:https://www.kbi-dachau.de/kommandantenversammlung_v_142.html
END:VEVENT
END:VCALENDAR
	
