BEGIN:VCALENDAR
METHOD:PUBLISH
PRODID:-//Your-Prodid-Here//NONSGML iCalcreator 0.9.15//
VERSION:2.0
BEGIN:VEVENT
CLASS:PUBLIC
DTSTART;VALUE=DATE-TIME:20250718T000000
DTEND;VALUE=DATE-TIME:20250720T000000
DTSTAMP:20260420T052406Z
LOCATION:Feuerwehr Tandern
PRIORITY:3
SUMMARY:Jugendzeltlager
UID:f4591eef7c0f440e61c4b586887edbda@your-domain.com
URL:https://www.kbi-dachau.de/jugendzeltlager_v_141.html
END:VEVENT
END:VCALENDAR
	
