BEGIN:VCALENDAR
METHOD:PUBLISH
PRODID:-//Your-Prodid-Here//NONSGML iCalcreator 0.9.15//
VERSION:2.0
BEGIN:VEVENT
CLASS:PUBLIC
DTSTART;VALUE=DATE-TIME:20250516T190000
DTEND;VALUE=DATE-TIME:20250516T230000
DTSTAMP:20260420T063314Z
LOCATION:Gastwirtschaft Doll
PRIORITY:3
SUMMARY:Ehrenabend
UID:4dbfd11a0c1343b341fa22af38ba7d72@your-domain.com
URL:https://www.kbi-dachau.de/ehrenabend_v_140.html
END:VEVENT
END:VCALENDAR
	
