BEGIN:VCALENDAR
METHOD:PUBLISH
PRODID:-//Your-Prodid-Here//NONSGML iCalcreator 0.9.15//
VERSION:2.0
BEGIN:VEVENT
CLASS:PUBLIC
DTSTART;VALUE=DATE-TIME:20240529T000000
DTEND;VALUE=DATE-TIME:20240603T235900
DTSTAMP:20260420T052136Z
LOCATION:KFV Garmisch-Partenkirchen
PRIORITY:3
SUMMARY:Reservierung Hüpfburg
UID:f67f4296d709cebc7464af6f1aef9b40@your-domain.com
URL:https://www.kbi-dachau.de/reservierung-huepfburg_v_14.html
END:VEVENT
END:VCALENDAR
	
