BEGIN:VCALENDAR
METHOD:PUBLISH
PRODID:-//Your-Prodid-Here//NONSGML iCalcreator 0.9.15//
VERSION:2.0
BEGIN:VEVENT
CLASS:PUBLIC
DTSTART;VALUE=DATE-TIME:20250403T190000
DTEND;VALUE=DATE-TIME:20250403T220000
DTSTAMP:20260420T051906Z
LOCATION:Gastwirtschaft Doll
PRIORITY:3
SUMMARY:Verbandsversammlung
UID:75136aa5f79062629b69c24b18a57c91@your-domain.com
URL:https://www.kbi-dachau.de/verbandsversammlung_v_139.html
END:VEVENT
END:VCALENDAR
	
