BEGIN:VCALENDAR
METHOD:PUBLISH
PRODID:-//Your-Prodid-Here//NONSGML iCalcreator 0.9.15//
VERSION:2.0
BEGIN:VEVENT
CLASS:PUBLIC
DTSTART;VALUE=DATE-TIME:20250504T190000
DTEND;VALUE=DATE-TIME:20250504T220000
DTSTAMP:20260420T051906Z
LOCATION:Basilika am Petersberg
PRIORITY:3
SUMMARY:Florianstag
UID:e0319bcea23b419802697519e979b058@your-domain.com
URL:https://www.kbi-dachau.de/florianstag_v_138.html
END:VEVENT
END:VCALENDAR
	
