BEGIN:VCALENDAR
METHOD:PUBLISH
PRODID:-//Your-Prodid-Here//NONSGML iCalcreator 0.9.15//
VERSION:2.0
BEGIN:VEVENT
CLASS:PUBLIC
DTSTART;VALUE=DATE-TIME:20250815T100000
DTEND;VALUE=DATE-TIME:20250815T150000
DTSTAMP:20260420T052405Z
LOCATION:Volksfest Dachau
PRIORITY:3
SUMMARY:Volksfeststammtisch
UID:38d2b6970e565e34069b76465fd6c8e9@your-domain.com
URL:https://www.kbi-dachau.de/volksfeststammtisch_v_137.html
END:VEVENT
END:VCALENDAR
	
