BEGIN:VCALENDAR
METHOD:PUBLISH
PRODID:-//Your-Prodid-Here//NONSGML iCalcreator 0.9.15//
VERSION:2.0
BEGIN:VEVENT
CLASS:PUBLIC
DTSTART;VALUE=DATE-TIME:20251203T190000
DTEND;VALUE=DATE-TIME:20251203T220000
DTSTAMP:20260420T142728Z
LOCATION:Katastrophenschutzzentrum
PRIORITY:3
SUMMARY:KBM-Dienstbesprechung
UID:a6640f99c51ac0111c8e25c3a63dedc0@your-domain.com
URL:https://www.kbi-dachau.de/kbm-dienstbesprechung_v_136.html
END:VEVENT
END:VCALENDAR
	
