BEGIN:VCALENDAR
METHOD:PUBLISH
PRODID:-//Your-Prodid-Here//NONSGML iCalcreator 0.9.15//
VERSION:2.0
BEGIN:VEVENT
CLASS:PUBLIC
DTSTART;VALUE=DATE-TIME:20251112T190000
DTEND;VALUE=DATE-TIME:20251112T220000
DTSTAMP:20260420T052020Z
LOCATION:Katastrophenschutzzentrum
PRIORITY:3
SUMMARY:KBM-Dienstbesprechung
UID:017cf4b299156376a0f9bca12d11a857@your-domain.com
URL:https://www.kbi-dachau.de/kbm-dienstbesprechung_v_135.html
END:VEVENT
END:VCALENDAR
	
