BEGIN:VCALENDAR
METHOD:PUBLISH
PRODID:-//Your-Prodid-Here//NONSGML iCalcreator 0.9.15//
VERSION:2.0
BEGIN:VEVENT
CLASS:PUBLIC
DTSTART;VALUE=DATE-TIME:20251015T190000
DTEND;VALUE=DATE-TIME:20251015T220000
DTSTAMP:20260420T052253Z
LOCATION:Katastrophenschutzzentrum
PRIORITY:3
SUMMARY:KBM-Dienstbesprechung
UID:39b77ce0247399c7a142aad2c50bf0f3@your-domain.com
URL:https://www.kbi-dachau.de/kbm-dienstbesprechung_v_134.html
END:VEVENT
END:VCALENDAR
	
