BEGIN:VCALENDAR
METHOD:PUBLISH
PRODID:-//Your-Prodid-Here//NONSGML iCalcreator 0.9.15//
VERSION:2.0
BEGIN:VEVENT
CLASS:PUBLIC
DTSTART;VALUE=DATE-TIME:20250917T190000
DTEND;VALUE=DATE-TIME:20250917T220000
DTSTAMP:20260420T052411Z
LOCATION:Katastrophenschutzzentrum
PRIORITY:3
SUMMARY:KBM-Dienstbesprechung
UID:bd3ef93f81920931f76ea3b4d3466159@your-domain.com
URL:https://www.kbi-dachau.de/kbm-dienstbesprechung_v_133.html
END:VEVENT
END:VCALENDAR
	
