BEGIN:VCALENDAR
METHOD:PUBLISH
PRODID:-//Your-Prodid-Here//NONSGML iCalcreator 0.9.15//
VERSION:2.0
BEGIN:VEVENT
CLASS:PUBLIC
DTSTART;VALUE=DATE-TIME:20250716T190000
DTEND;VALUE=DATE-TIME:20250716T220000
DTSTAMP:20260420T075146Z
LOCATION:Katastrophenschutzzentrum
PRIORITY:3
SUMMARY:KBM-Dienstbesprechung mit Verbandsausschuss
UID:850907f96795ced29ce6c29f618e3fb4@your-domain.com
URL:https://www.kbi-dachau.de/kbm-dienstbesprechung_v_132.html
END:VEVENT
END:VCALENDAR
	
