BEGIN:VCALENDAR
METHOD:PUBLISH
PRODID:-//Your-Prodid-Here//NONSGML iCalcreator 0.9.15//
VERSION:2.0
BEGIN:VEVENT
CLASS:PUBLIC
DTSTART;VALUE=DATE-TIME:20250514T190000
DTEND;VALUE=DATE-TIME:20250514T220000
DTSTAMP:20260420T052405Z
LOCATION:Katastrophenschutzzentrum
PRIORITY:3
SUMMARY:KBM-Dienstbesprechung
UID:41de424f23c0fe0192aad2fcfc2ff398@your-domain.com
URL:https://www.kbi-dachau.de/kbm-dienstbesprechung_v_130.html
END:VEVENT
END:VCALENDAR
	
