BEGIN:VCALENDAR
METHOD:PUBLISH
PRODID:-//Your-Prodid-Here//NONSGML iCalcreator 0.9.15//
VERSION:2.0
BEGIN:VEVENT
CLASS:PUBLIC
DTSTART;VALUE=DATE-TIME:20240529T000000
DTEND;VALUE=DATE-TIME:20240602T235900
DTSTAMP:20260420T052259Z
LOCATION:Feuerwehr Tandern
PRIORITY:3
SUMMARY:150. jähriges Gründungsfest Feuerwehr Tandern
UID:304d3ea179b4de3869235b86b3275649@your-domain.com
URL:https://www.kbi-dachau.de/150-gruendungsfest-ff-tandern_v_13.html
END:VEVENT
END:VCALENDAR
	
