BEGIN:VCALENDAR
METHOD:PUBLISH
PRODID:-//Your-Prodid-Here//NONSGML iCalcreator 0.9.15//
VERSION:2.0
BEGIN:VEVENT
CLASS:PUBLIC
DTSTART;VALUE=DATE-TIME:20250409T190000
DTEND;VALUE=DATE-TIME:20250409T220000
DTSTAMP:20260420T052411Z
LOCATION:Katastrophenschutzzentrum
PRIORITY:3
SUMMARY:KBM-Dienstbesprechung
UID:629d249d09462985cc60f61ca271b3fe@your-domain.com
URL:https://www.kbi-dachau.de/kbm-dienstbesprechung_v_129.html
END:VEVENT
END:VCALENDAR
	
