BEGIN:VCALENDAR
METHOD:PUBLISH
PRODID:-//Your-Prodid-Here//NONSGML iCalcreator 0.9.15//
VERSION:2.0
BEGIN:VEVENT
CLASS:PUBLIC
DTSTART;VALUE=DATE-TIME:20250312T190000
DTEND;VALUE=DATE-TIME:20250312T220000
DTSTAMP:20260420T052020Z
LOCATION:Katastrophenschutzzentrum
PRIORITY:3
SUMMARY:KBM-Dienstbesprechung
UID:d4727db6d1b5d797e6bed2f6d6a6471c@your-domain.com
URL:https://www.kbi-dachau.de/kbm-dienstbesprechung_v_128.html
END:VEVENT
END:VCALENDAR
	
