BEGIN:VCALENDAR
METHOD:PUBLISH
PRODID:-//Your-Prodid-Here//NONSGML iCalcreator 0.9.15//
VERSION:2.0
BEGIN:VEVENT
CLASS:PUBLIC
DTSTART;VALUE=DATE-TIME:20250212T190000
DTEND;VALUE=DATE-TIME:20250212T220000
DTSTAMP:20260420T052411Z
LOCATION:Katastrophenschutzzentrum
PRIORITY:3
SUMMARY:KBM-Dienstbesprechung mit Verbandsausschuss
UID:f5e5ec341f6f1efa52dc60f7a7c130b7@your-domain.com
URL:https://www.kbi-dachau.de/kbm-dienstbesprechung_v_127.html
END:VEVENT
END:VCALENDAR
	
