BEGIN:VCALENDAR
METHOD:PUBLISH
PRODID:-//Your-Prodid-Here//NONSGML iCalcreator 0.9.15//
VERSION:2.0
BEGIN:VEVENT
CLASS:PUBLIC
DTSTART;VALUE=DATE-TIME:20250115T190000
DTEND;VALUE=DATE-TIME:20250115T220000
DTSTAMP:20260420T075410Z
LOCATION:Katastrophenschutzzentrum
PRIORITY:3
SUMMARY:KBM-Dienstbesprechung
UID:4d59592a0dc7287e2ba7690e02371b25@your-domain.com
URL:https://www.kbi-dachau.de/kbm-dienstbesprechung_v_126.html
END:VEVENT
END:VCALENDAR
	
