BEGIN:VCALENDAR
METHOD:PUBLISH
PRODID:-//Your-Prodid-Here//NONSGML iCalcreator 0.9.15//
VERSION:2.0
BEGIN:VEVENT
CLASS:PUBLIC
DTSTART;VALUE=DATE-TIME:20250927T000000
DTEND;VALUE=DATE-TIME:20250928T235900
DTSTAMP:20260420T052411Z
LOCATION:Kreisbrandinspektion Starnberg
PRIORITY:3
SUMMARY:Reservierung Hüpfburg
UID:29f5257b8ddc8875693f6f8a5114f596@your-domain.com
URL:https://www.kbi-dachau.de/reservierung-huepfburg_v_124.html
END:VEVENT
END:VCALENDAR
	
