BEGIN:VCALENDAR
METHOD:PUBLISH
PRODID:-//Your-Prodid-Here//NONSGML iCalcreator 0.9.15//
VERSION:2.0
BEGIN:VEVENT
CLASS:PUBLIC
DTSTART;VALUE=DATE-TIME:20250518T000000
DTEND;VALUE=DATE-TIME:20250601T230000
DTSTAMP:20260420T051949Z
LOCATION:Feuerwehr Höfa
PRIORITY:3
SUMMARY:Reservierung Feuerlöschtrainer
UID:dab25abade92b3215650ff7ec5ac18df@your-domain.com
URL:https://www.kbi-dachau.de/reservierung-feuerloeschtrainer_v_123.html
END:VEVENT
END:VCALENDAR
	
