BEGIN:VCALENDAR
METHOD:PUBLISH
PRODID:-//Your-Prodid-Here//NONSGML iCalcreator 0.9.15//
VERSION:2.0
BEGIN:VEVENT
CLASS:PUBLIC
DTSTART;VALUE=DATE-TIME:20241017T000000
DTEND;VALUE=DATE-TIME:20241025T230000
DTSTAMP:20260420T052259Z
LOCATION:Feuerwehr Odelzhausen
PRIORITY:3
SUMMARY:Reservierung Feuerlöschtrainer
UID:191c0bec2ce260d9442ee33afce593cf@your-domain.com
URL:https://www.kbi-dachau.de/reservierung-feuerloeschtrainer_v_122.html
END:VEVENT
END:VCALENDAR
	
