BEGIN:VCALENDAR
METHOD:PUBLISH
PRODID:-//Your-Prodid-Here//NONSGML iCalcreator 0.9.15//
VERSION:2.0
BEGIN:VEVENT
CLASS:PUBLIC
DTSTART;VALUE=DATE-TIME:20241007T000000
DTEND;VALUE=DATE-TIME:20241007T235900
DTSTAMP:20260420T051949Z
LOCATION:Feuerwehr Arnbach
PRIORITY:3
SUMMARY:Reservierung Feuerlöschtrainer
UID:59b7da153411d7ec503aa516c5dedc0e@your-domain.com
URL:https://www.kbi-dachau.de/reservierung-feuerloeschtrainer_v_121.html
END:VEVENT
END:VCALENDAR
	
