BEGIN:VCALENDAR
METHOD:PUBLISH
PRODID:-//Your-Prodid-Here//NONSGML iCalcreator 0.9.15//
VERSION:2.0
BEGIN:VEVENT
CLASS:PUBLIC
DTSTART;VALUE=DATE-TIME:20241109T000000
DTEND;VALUE=DATE-TIME:20241109T230000
DTSTAMP:20260420T075344Z
LOCATION:Feuerwehr Scheyern
PRIORITY:3
SUMMARY:Reservierung Hüpfburg
UID:7d9f1938a43d351372bc34f531f1bd1c@your-domain.com
URL:https://www.kbi-dachau.de/reservierung-huepfburg_v_120.html
END:VEVENT
END:VCALENDAR
	
