BEGIN:VCALENDAR
METHOD:PUBLISH
PRODID:-//Your-Prodid-Here//NONSGML iCalcreator 0.9.15//
VERSION:2.0
BEGIN:VEVENT
CLASS:PUBLIC
DTSTART;VALUE=DATE-TIME:20240519T000000
DTEND;VALUE=DATE-TIME:20240519T235900
DTSTAMP:20260420T052400Z
LOCATION:Feuerwehr Grainbach
PRIORITY:3
SUMMARY:Reservierung Hüpfburg
UID:d9ac92bbc32ff418f0d7bb81afc64273@your-domain.com
URL:https://www.kbi-dachau.de/reservierung-huepfburg_v_12.html
END:VEVENT
END:VCALENDAR
	
