BEGIN:VCALENDAR
METHOD:PUBLISH
PRODID:-//Your-Prodid-Here//NONSGML iCalcreator 0.9.15//
VERSION:2.0
BEGIN:VEVENT
CLASS:PUBLIC
DTSTART;VALUE=DATE-TIME:20250829T000000
DTEND;VALUE=DATE-TIME:20250831T235900
DTSTAMP:20260420T052400Z
LOCATION:Feuerwehr Rottenegg
PRIORITY:3
SUMMARY:Reservierung Hüpfburg
UID:f0319bac5b3a4fc2fc406390387e3085@your-domain.com
URL:https://www.kbi-dachau.de/reservierung-huepfburg_v_119.html
END:VEVENT
END:VCALENDAR
	
