BEGIN:VCALENDAR
METHOD:PUBLISH
PRODID:-//Your-Prodid-Here//NONSGML iCalcreator 0.9.15//
VERSION:2.0
BEGIN:VEVENT
CLASS:PUBLIC
DTSTART;VALUE=DATE-TIME:20250515T000000
DTEND;VALUE=DATE-TIME:20250518T235900
DTSTAMP:20260420T051943Z
LOCATION:Feuerwehr Karlshuld
PRIORITY:3
SUMMARY:Reservierung Hüpfburg
UID:ca4dec7607692fd19ccd04086b000faa@your-domain.com
URL:https://www.kbi-dachau.de/reservierung-huepfburg_v_116.html
END:VEVENT
END:VCALENDAR
	
