BEGIN:VCALENDAR
METHOD:PUBLISH
PRODID:-//Your-Prodid-Here//NONSGML iCalcreator 0.9.15//
VERSION:2.0
BEGIN:VEVENT
CLASS:PUBLIC
DTSTART;VALUE=DATE-TIME:20241012T000000
DTEND;VALUE=DATE-TIME:20241016T235900
DTSTAMP:20260420T052400Z
LOCATION:Feuerwehr Höfa
PRIORITY:3
SUMMARY:Reservierung Feuerlöschtrainer
UID:c29a1e35d9611bb644394c7c5dc7507c@your-domain.com
URL:https://www.kbi-dachau.de/reservierung-feuerloeschtrainer_v_115.html
END:VEVENT
END:VCALENDAR
	
