BEGIN:VCALENDAR
METHOD:PUBLISH
PRODID:-//Your-Prodid-Here//NONSGML iCalcreator 0.9.15//
VERSION:2.0
BEGIN:VEVENT
CLASS:PUBLIC
DTSTART;VALUE=DATE-TIME:20250808T000000
DTEND;VALUE=DATE-TIME:20250809T235900
DTSTAMP:20260420T052020Z
LOCATION:Feuerwehr Böbing
PRIORITY:3
SUMMARY:Reservierung Hüpfburg
UID:c7859c15323c7aacb7d9ae1ea0f64ce4@your-domain.com
URL:https://www.kbi-dachau.de/reservierung-huepfburg_v_114.html
END:VEVENT
END:VCALENDAR
	
