BEGIN:VCALENDAR
METHOD:PUBLISH
PRODID:-//Your-Prodid-Here//NONSGML iCalcreator 0.9.15//
VERSION:2.0
BEGIN:VEVENT
CLASS:PUBLIC
DTSTART;VALUE=DATE-TIME:20250718T000000
DTEND;VALUE=DATE-TIME:20250720T235900
DTSTAMP:20260420T051948Z
LOCATION:Feuerwehr Ilmmünster
PRIORITY:3
SUMMARY:Reservierung Hüpfburg
UID:ef8a3faf5e356cf1e23187e11df60c8a@your-domain.com
URL:https://www.kbi-dachau.de/reservierung-huepfburg_v_113.html
END:VEVENT
END:VCALENDAR
	
